BEGIN:VCALENDAR
VERSION:2.0
PRODID:-//Pecos Valley REC #8 - ECPv6.15.17.1//NONSGML v1.0//EN
CALSCALE:GREGORIAN
METHOD:PUBLISH
X-WR-CALNAME:Pecos Valley REC #8
X-ORIGINAL-URL:https://www.pvrec8.com
X-WR-CALDESC:Events for Pecos Valley REC #8
REFRESH-INTERVAL;VALUE=DURATION:PT1H
X-Robots-Tag:noindex
X-PUBLISHED-TTL:PT1H
BEGIN:VTIMEZONE
TZID:America/Denver
BEGIN:DAYLIGHT
TZOFFSETFROM:-0700
TZOFFSETTO:-0600
TZNAME:MDT
DTSTART:20240310T090000
END:DAYLIGHT
BEGIN:STANDARD
TZOFFSETFROM:-0600
TZOFFSETTO:-0700
TZNAME:MST
DTSTART:20241103T080000
END:STANDARD
BEGIN:DAYLIGHT
TZOFFSETFROM:-0700
TZOFFSETTO:-0600
TZNAME:MDT
DTSTART:20250309T090000
END:DAYLIGHT
BEGIN:STANDARD
TZOFFSETFROM:-0600
TZOFFSETTO:-0700
TZNAME:MST
DTSTART:20251102T080000
END:STANDARD
BEGIN:DAYLIGHT
TZOFFSETFROM:-0700
TZOFFSETTO:-0600
TZNAME:MDT
DTSTART:20260308T090000
END:DAYLIGHT
BEGIN:STANDARD
TZOFFSETFROM:-0600
TZOFFSETTO:-0700
TZNAME:MST
DTSTART:20261101T080000
END:STANDARD
BEGIN:DAYLIGHT
TZOFFSETFROM:-0700
TZOFFSETTO:-0600
TZNAME:MDT
DTSTART:20270314T090000
END:DAYLIGHT
BEGIN:STANDARD
TZOFFSETFROM:-0600
TZOFFSETTO:-0700
TZNAME:MST
DTSTART:20271107T080000
END:STANDARD
END:VTIMEZONE
BEGIN:VEVENT
DTSTART;VALUE=DATE:20260403
DTEND;VALUE=DATE:20260404
DTSTAMP:20260422T155619
CREATED:20250804T214005Z
LAST-MODIFIED:20250804T214005Z
UID:10000010-1775174400-1775260799@www.pvrec8.com
SUMMARY:Good Friday
DESCRIPTION:
URL:https://www.pvrec8.com/event/good-friday
END:VEVENT
BEGIN:VEVENT
DTSTART;VALUE=DATE:20260316
DTEND;VALUE=DATE:20260321
DTSTAMP:20260422T155619
CREATED:20250804T213722Z
LAST-MODIFIED:20250804T213722Z
UID:10000009-1773619200-1774051199@www.pvrec8.com
SUMMARY:Spring Break
DESCRIPTION:
URL:https://www.pvrec8.com/event/spring-break
END:VEVENT
BEGIN:VEVENT
DTSTART;VALUE=DATE:20260216
DTEND;VALUE=DATE:20260217
DTSTAMP:20260422T155619
CREATED:20250804T213252Z
LAST-MODIFIED:20250804T213524Z
UID:10000008-1771200000-1771286399@www.pvrec8.com
SUMMARY:Presidents' Day
DESCRIPTION:
URL:https://www.pvrec8.com/event/presidents-day
END:VEVENT
BEGIN:VEVENT
DTSTART;VALUE=DATE:20260119
DTEND;VALUE=DATE:20260120
DTSTAMP:20260422T155619
CREATED:20250804T212232Z
LAST-MODIFIED:20250804T212232Z
UID:10000007-1768780800-1768867199@www.pvrec8.com
SUMMARY:Martin Luther King Jr. Holiday
DESCRIPTION:
URL:https://www.pvrec8.com/event/martin-luther-king-jr-holiday
END:VEVENT
BEGIN:VEVENT
DTSTART;VALUE=DATE:20251222
DTEND;VALUE=DATE:20260103
DTSTAMP:20260422T155619
CREATED:20250804T212111Z
LAST-MODIFIED:20250804T212111Z
UID:10000006-1766361600-1767398399@www.pvrec8.com
SUMMARY:Christmas Break
DESCRIPTION:
URL:https://www.pvrec8.com/event/christmas-break
END:VEVENT
BEGIN:VEVENT
DTSTART;TZID=America/Denver:20251217T090000
DTEND;TZID=America/Denver:20251217T090000
DTSTAMP:20260422T155619
CREATED:20251216T131147Z
LAST-MODIFIED:20251216T131147Z
UID:10000015-1765962000-1765962000@www.pvrec8.com
SUMMARY:Coordinating Council Meeting
DESCRIPTION:
URL:https://www.pvrec8.com/event/coordinating-council-meeting-2
END:VEVENT
BEGIN:VEVENT
DTSTART;VALUE=DATE:20251124
DTEND;VALUE=DATE:20251129
DTSTAMP:20260422T155619
CREATED:20250804T211948Z
LAST-MODIFIED:20250804T211948Z
UID:10000005-1763942400-1764374399@www.pvrec8.com
SUMMARY:Thanksgiving Break
DESCRIPTION:
URL:https://www.pvrec8.com/event/thanksgiving-break
END:VEVENT
BEGIN:VEVENT
DTSTART;VALUE=DATE:20251104
DTEND;VALUE=DATE:20251105
DTSTAMP:20260422T155619
CREATED:20250804T211809Z
LAST-MODIFIED:20250804T211809Z
UID:10000004-1762214400-1762300799@www.pvrec8.com
SUMMARY:Election Day
DESCRIPTION:
URL:https://www.pvrec8.com/event/election-day
END:VEVENT
BEGIN:VEVENT
DTSTART;TZID=America/Denver:20250909T090000
DTEND;TZID=America/Denver:20250909T090000
DTSTAMP:20260422T155619
CREATED:20250827T163802Z
LAST-MODIFIED:20250827T163802Z
UID:10000014-1757408400-1757408400@www.pvrec8.com
SUMMARY:Coordinating Council Meeting
DESCRIPTION:
URL:https://www.pvrec8.com/event/coordinating-council-meeting
LOCATION:Conference Room
END:VEVENT
BEGIN:VEVENT
DTSTART;VALUE=DATE:20250901
DTEND;VALUE=DATE:20250902
DTSTAMP:20260422T155619
CREATED:20250804T211636Z
LAST-MODIFIED:20250804T211636Z
UID:10000003-1756684800-1756771199@www.pvrec8.com
SUMMARY:Labor Day
DESCRIPTION:
URL:https://www.pvrec8.com/event/labor-day
END:VEVENT
BEGIN:VEVENT
DTSTART;VALUE=DATE:20250801
DTEND;VALUE=DATE:20250802
DTSTAMP:20260422T155619
CREATED:20250804T211540Z
LAST-MODIFIED:20250804T211540Z
UID:10000002-1754006400-1754092799@www.pvrec8.com
SUMMARY:Ancillary Staff Start & Staff Meeting
DESCRIPTION:
URL:https://www.pvrec8.com/event/ancillary-staff-start-staff-meeting
END:VEVENT
BEGIN:VEVENT
DTSTART;VALUE=DATE:20250704
DTEND;VALUE=DATE:20250705
DTSTAMP:20260422T155619
CREATED:20250804T211253Z
LAST-MODIFIED:20250804T211404Z
UID:10000001-1751587200-1751673599@www.pvrec8.com
SUMMARY:Independence Day
DESCRIPTION:
URL:https://www.pvrec8.com/event/independence-day
END:VEVENT
END:VCALENDAR